BEGIN:VCALENDAR
VERSION:2.0
PRODID:-//Plains Presbyterian - ECPv4.9.7//NONSGML v1.0//EN
CALSCALE:GREGORIAN
METHOD:PUBLISH
X-WR-CALNAME:Plains Presbyterian
X-ORIGINAL-URL:http://www.plainspresbyterian.co.nz
X-WR-CALDESC:Events for Plains Presbyterian
BEGIN:VTIMEZONE
TZID:"Pacific/Auckland"
BEGIN:STANDARD
TZOFFSETFROM:+1300
TZOFFSETTO:+1200
TZNAME:NZST
DTSTART:20190406T140000
END:STANDARD
BEGIN:DAYLIGHT
TZOFFSETFROM:+1200
TZOFFSETTO:+1300
TZNAME:NZDT
DTSTART:20190928T140000
END:DAYLIGHT
END:VTIMEZONE
BEGIN:VEVENT
DTSTART;TZID="Pacific/Auckland":20190221T110000
DTEND;TZID="Pacific/Auckland":20190221T120000
DTSTAMP:20191220T021249
CREATED:20190217T083436Z
LAST-MODIFIED:20190220T035420Z
UID:309-1550746800-1550750400@www.plainspresbyterian.co.nz
SUMMARY:Worship Service Womens Institute Founders Day Service
DESCRIPTION:
URL:http://www.plainspresbyterian.co.nz/event/worship-service-womens-institute-founders-day-service/
LOCATION:Staveley\, End of Burgess Rd\, Staveley\, Canterbury\, 7771\, New Zealand
CATEGORIES:Worship Services
END:VEVENT
END:VCALENDAR