BEGIN:VCALENDAR
VERSION:2.0
PRODID:-//Plains Presbyterian - ECPv4.7.2//NONSGML v1.0//EN
CALSCALE:GREGORIAN
METHOD:PUBLISH
X-WR-CALNAME:Plains Presbyterian
X-ORIGINAL-URL:http://www.plainspresbyterian.co.nz
X-WR-CALDESC:Events for Plains Presbyterian
BEGIN:VEVENT
DTSTART;TZID=Pacific/Auckland:20180826T093000
DTEND;TZID=Pacific/Auckland:20180826T103000
DTSTAMP:20181221T135141
CREATED:20180802T064502Z
LAST-MODIFIED:20180802T064502Z
UID:266-1535275800-1535279400@www.plainspresbyterian.co.nz
SUMMARY:Rakaia service taken by Rev Neville Burns
DESCRIPTION:
URL:http://www.plainspresbyterian.co.nz/event/rakaia-service-taken-by-rev-neville-burns/
LOCATION:St Andrews Rakaia\, Rakaia Hwy & Bowen St\, Rakaia\, Canterbury\, 7710\, New Zealand
CATEGORIES:Worship Services
END:VEVENT
BEGIN:VEVENT
DTSTART;TZID=Pacific/Auckland:20180826T100000
DTEND;TZID=Pacific/Auckland:20180826T110000
DTSTAMP:20181221T135141
CREATED:20180802T064549Z
LAST-MODIFIED:20180802T064549Z
UID:268-1535277600-1535281200@www.plainspresbyterian.co.nz
SUMMARY:Mayfield service taken by Rev Arii
DESCRIPTION:
URL:http://www.plainspresbyterian.co.nz/event/mayfield-service-taken-by-rev-arii/
LOCATION:Mayfield\, 23 Mayfield Klondyke Rd\, Mayfield\, Canterbury
CATEGORIES:Worship Services
END:VEVENT
BEGIN:VEVENT
DTSTART;TZID=Pacific/Auckland:20180826T103000
DTEND;TZID=Pacific/Auckland:20180826T113000
DTSTAMP:20181221T135141
CREATED:20180802T064709Z
LAST-MODIFIED:20180802T064709Z
UID:270-1535279400-1535283000@www.plainspresbyterian.co.nz
SUMMARY:Methven service taken by Rev John Titlow
DESCRIPTION:
URL:http://www.plainspresbyterian.co.nz/event/methven-service-taken-by-rev-john-titlow/
LOCATION:Methven\, 3 Jackson Street\,Methven\, Canterbury\, 7730\, New Zealand
CATEGORIES:Worship Services
END:VEVENT
END:VCALENDAR