BEGIN:VCALENDAR
VERSION:2.0
PRODID:-//Plains Presbyterian - ECPv4.7.2//NONSGML v1.0//EN
CALSCALE:GREGORIAN
METHOD:PUBLISH
X-WR-CALNAME:Plains Presbyterian
X-ORIGINAL-URL:http://www.plainspresbyterian.co.nz
X-WR-CALDESC:Events for Plains Presbyterian
BEGIN:VEVENT
DTSTART;TZID=Pacific/Auckland:20180812T093000
DTEND;TZID=Pacific/Auckland:20180812T103000
DTSTAMP:20181221T135128
CREATED:20180802T063749Z
LAST-MODIFIED:20180802T063749Z
UID:257-1534066200-1534069800@www.plainspresbyterian.co.nz
SUMMARY:Rakaia service taken by Rev John Titlow
DESCRIPTION:
URL:http://www.plainspresbyterian.co.nz/event/rakaia-service-taken-by-rev-john-titlow/
LOCATION:St Andrews Rakaia\, Rakaia Hwy & Bowen St\, Rakaia\, Canterbury\, 7710\, New Zealand
CATEGORIES:Worship Services
END:VEVENT
BEGIN:VEVENT
DTSTART;TZID=Pacific/Auckland:20180812T103000
DTEND;TZID=Pacific/Auckland:20180812T113000
DTSTAMP:20181221T135128
CREATED:20180802T064051Z
LAST-MODIFIED:20180802T064051Z
UID:260-1534069800-1534073400@www.plainspresbyterian.co.nz
SUMMARY:Methven service taken by Rev Arii
DESCRIPTION:
URL:http://www.plainspresbyterian.co.nz/event/methven-service-taken-by-rev-arii/
LOCATION:Methven\, 3 Jackson Street\,Methven\, Canterbury\, 7730\, New Zealand
CATEGORIES:Worship Services
END:VEVENT
END:VCALENDAR