BEGIN:VCALENDAR
VERSION:2.0
PRODID:-//Plains Presbyterian - ECPv4.7.2//NONSGML v1.0//EN
CALSCALE:GREGORIAN
METHOD:PUBLISH
X-WR-CALNAME:Plains Presbyterian
X-ORIGINAL-URL:http://www.plainspresbyterian.co.nz
X-WR-CALDESC:Events for Plains Presbyterian
BEGIN:VEVENT
DTSTART;TZID=Pacific/Auckland:20180805T093000
DTEND;TZID=Pacific/Auckland:20180805T103000
DTSTAMP:20181221T135119
CREATED:20180802T052944Z
LAST-MODIFIED:20180802T070101Z
UID:250-1533461400-1533465000@www.plainspresbyterian.co.nz
SUMMARY:Rakaia Service 9.30am
DESCRIPTION:Rakaia service will be held by Rev John Titlow starting at 9.30am \n
URL:http://www.plainspresbyterian.co.nz/event/rakaia-service-9-30am/
LOCATION:St Andrews Rakaia\, Rakaia Hwy & Bowen St\, Rakaia\, Canterbury\, 7710\, New Zealand
CATEGORIES:Worship Services
END:VEVENT
END:VCALENDAR