BEGIN:VCALENDAR
VERSION:2.0
PRODID:-//Plains Presbyterian - ECPv4.9.7//NONSGML v1.0//EN
CALSCALE:GREGORIAN
METHOD:PUBLISH
X-WR-CALNAME:Plains Presbyterian
X-ORIGINAL-URL:http://www.plainspresbyterian.co.nz
X-WR-CALDESC:Events for Plains Presbyterian
BEGIN:VTIMEZONE
TZID:"Pacific/Auckland"
BEGIN:STANDARD
TZOFFSETFROM:+1300
TZOFFSETTO:+1200
TZNAME:NZST
DTSTART:20190406T140000
END:STANDARD
BEGIN:DAYLIGHT
TZOFFSETFROM:+1200
TZOFFSETTO:+1300
TZNAME:NZDT
DTSTART:20190928T140000
END:DAYLIGHT
END:VTIMEZONE
BEGIN:VEVENT
DTSTART;TZID="Pacific/Auckland":20190224T093000
DTEND;TZID="Pacific/Auckland":20190224T103000
DTSTAMP:20191220T021545
CREATED:20190217T083917Z
LAST-MODIFIED:20190220T035356Z
UID:312-1551000600-1551004200@www.plainspresbyterian.co.nz
SUMMARY:Worship Services St Andrews Rakaia
DESCRIPTION:Leader Rev Neville Burns \n
URL:http://www.plainspresbyterian.co.nz/event/worship-services-st-andrews-rakaia/
LOCATION:St Andrews Rakaia\, Rakaia Hwy & Bowen St\, Rakaia\, Canterbury\, 7710\, New Zealand
CATEGORIES:Worship Services
END:VEVENT
END:VCALENDAR